Workbook

Sheet Расходы
A1: Общие расходы
A2: Имена — в серых ячейках. Под каждым именем: 1, если расход на этого человека, 2 — если он за двоих, пусто — если нет.
A4: Дата | B4: Что | C4: Сумма | D4: Кто платил | E4: Аня | F4: Борис | G4: Кирилл | H4: Даша | M4: На долю
A5: 46204 | B5: Квартира, 4 ночи | C5: 32000 | D5: Аня | E5: 1 | F5: 1 | G5: 1 | H5: 1 | M5: =IF(SUM(E5:L5)=0,0,C5/SUM(E5:L5))
A6: 46204 | B6: Продукты | C6: 4320 | D6: Борис | E6: 1 | F6: 1 | G6: 1 | H6: 1 | M6: =IF(SUM(E6:L6)=0,0,C6/SUM(E6:L6))
A7: 46205 | B7: Прогулка на катере | C7: 6000 | D7: Кирилл | E7: 1 | F7: 1 | G7: 1 | M7: =IF(SUM(E7:L7)=0,0,C7/SUM(E7:L7))
A8: 46206 | B8: Ужин | C8: 7740 | D8: Даша | E8: 1 | F8: 1 | G8: 1 | H8: 1 | M8: =IF(SUM(E8:L8)=0,0,C8/SUM(E8:L8))
M9: =IF(SUM(E9:L9)=0,0,C9/SUM(E9:L9))
M10: =IF(SUM(E10:L10)=0,0,C10/SUM(E10:L10))
M11: =IF(SUM(E11:L11)=0,0,C11/SUM(E11:L11))
M12: =IF(SUM(E12:L12)=0,0,C12/SUM(E12:L12))
M13: =IF(SUM(E13:L13)=0,0,C13/SUM(E13:L13))
M14: =IF(SUM(E14:L14)=0,0,C14/SUM(E14:L14))
M15: =IF(SUM(E15:L15)=0,0,C15/SUM(E15:L15))
M16: =IF(SUM(E16:L16)=0,0,C16/SUM(E16:L16))
M17: =IF(SUM(E17:L17)=0,0,C17/SUM(E17:L17))
M18: =IF(SUM(E18:L18)=0,0,C18/SUM(E18:L18))
M19: =IF(SUM(E19:L19)=0,0,C19/SUM(E19:L19))
M20: =IF(SUM(E20:L20)=0,0,C20/SUM(E20:L20))
... M204: =IF(SUM(E204:L204)=0,0,C204/SUM(E204:L204))

Sheet Балансы
A1: Балансы
A2: Плюс — группа должна этому человеку. Минус — он должен группе. Сумма балансов равна нулю.
A4: Участник | B4: Заплатил(а) | C4: Доля | D4: Баланс | E4: Итог
A5: =IF('Расходы'!E$4="","",'Расходы'!E$4) | B5: =IF(A5="","",SUMIF('Расходы'!$D$5:$D$204,A5,'Расходы'!$C$5:$C$204)) | C5: =IF(A5="","",SUMPRODUCT('Расходы'!$M$5:$M$204,'Расходы'!E$5:E$204)) | D5: =IF(A5="","",ROUND(B5-C5,2)) | E5: =IF(A5="","",IF(D5>0.004,"ему/ей вернут",IF(D5<-0.004,"должен/должна","в расчёте")))
A6: =IF('Расходы'!F$4="","",'Расходы'!F$4) | B6: =IF(A6="","",SUMIF('Расходы'!$D$5:$D$204,A6,'Расходы'!$C$5:$C$204)) | C6: =IF(A6="","",SUMPRODUCT('Расходы'!$M$5:$M$204,'Расходы'!F$5:F$204)) | D6: =IF(A6="","",ROUND(B6-C6,2)) | E6: =IF(A6="","",IF(D6>0.004,"ему/ей вернут",IF(D6<-0.004,"должен/должна","в расчёте")))
A7: =IF('Расходы'!G$4="","",'Расходы'!G$4) | B7: =IF(A7="","",SUMIF('Расходы'!$D$5:$D$204,A7,'Расходы'!$C$5:$C$204)) | C7: =IF(A7="","",SUMPRODUCT('Расходы'!$M$5:$M$204,'Расходы'!G$5:G$204)) | D7: =IF(A7="","",ROUND(B7-C7,2)) | E7: =IF(A7="","",IF(D7>0.004,"ему/ей вернут",IF(D7<-0.004,"должен/должна","в расчёте")))
A8: =IF('Расходы'!H$4="","",'Расходы'!H$4) | B8: =IF(A8="","",SUMIF('Расходы'!$D$5:$D$204,A8,'Расходы'!$C$5:$C$204)) | C8: =IF(A8="","",SUMPRODUCT('Расходы'!$M$5:$M$204,'Расходы'!H$5:H$204)) | D8: =IF(A8="","",ROUND(B8-C8,2)) | E8: =IF(A8="","",IF(D8>0.004,"ему/ей вернут",IF(D8<-0.004,"должен/должна","в расчёте")))
A9: =IF('Расходы'!I$4="","",'Расходы'!I$4) | B9: =IF(A9="","",SUMIF('Расходы'!$D$5:$D$204,A9,'Расходы'!$C$5:$C$204)) | C9: =IF(A9="","",SUMPRODUCT('Расходы'!$M$5:$M$204,'Расходы'!I$5:I$204)) | D9: =IF(A9="","",ROUND(B9-C9,2)) | E9: =IF(A9="","",IF(D9>0.004,"ему/ей вернут",IF(D9<-0.004,"должен/должна","в расчёте")))
A10: =IF('Расходы'!J$4="","",'Расходы'!J$4) | B10: =IF(A10="","",SUMIF('Расходы'!$D$5:$D$204,A10,'Расходы'!$C$5:$C$204)) | C10: =IF(A10="","",SUMPRODUCT('Расходы'!$M$5:$M$204,'Расходы'!J$5:J$204)) | D10: =IF(A10="","",ROUND(B10-C10,2)) | E10: =IF(A10="","",IF(D10>0.004,"ему/ей вернут",IF(D10<-0.004,"должен/должна","в расчёте")))
A11: =IF('Расходы'!K$4="","",'Расходы'!K$4) | B11: =IF(A11="","",SUMIF('Расходы'!$D$5:$D$204,A11,'Расходы'!$C$5:$C$204)) | C11: =IF(A11="","",SUMPRODUCT('Расходы'!$M$5:$M$204,'Расходы'!K$5:K$204)) | D11: =IF(A11="","",ROUND(B11-C11,2)) | E11: =IF(A11="","",IF(D11>0.004,"ему/ей вернут",IF(D11<-0.004,"должен/должна","в расчёте")))
A12: =IF('Расходы'!L$4="","",'Расходы'!L$4) | B12: =IF(A12="","",SUMIF('Расходы'!$D$5:$D$204,A12,'Расходы'!$C$5:$C$204)) | C12: =IF(A12="","",SUMPRODUCT('Расходы'!$M$5:$M$204,'Расходы'!L$5:L$204)) | D12: =IF(A12="","",ROUND(B12-C12,2)) | E12: =IF(A12="","",IF(D12>0.004,"ему/ей вернут",IF(D12<-0.004,"должен/должна","в расчёте")))
A15: Шаблон с kisir.am — kisir: бесплатное приложение, которое делает это на телефоне у каждого.
